BEGIN:VCALENDAR
VERSION:2.0
PRODID:-//Metro Esports - ECPv6.15.20//NONSGML v1.0//EN
CALSCALE:GREGORIAN
METHOD:PUBLISH
X-WR-CALNAME:Metro Esports
X-ORIGINAL-URL:https://metroesports.gg
X-WR-CALDESC:Events for Metro Esports
REFRESH-INTERVAL;VALUE=DURATION:PT1H
X-Robots-Tag:noindex
X-PUBLISHED-TTL:PT1H
BEGIN:VTIMEZONE
TZID:America/New_York
BEGIN:DAYLIGHT
TZOFFSETFROM:-0500
TZOFFSETTO:-0400
TZNAME:EDT
DTSTART:20240310T070000
END:DAYLIGHT
BEGIN:STANDARD
TZOFFSETFROM:-0400
TZOFFSETTO:-0500
TZNAME:EST
DTSTART:20241103T060000
END:STANDARD
BEGIN:DAYLIGHT
TZOFFSETFROM:-0500
TZOFFSETTO:-0400
TZNAME:EDT
DTSTART:20250309T070000
END:DAYLIGHT
BEGIN:STANDARD
TZOFFSETFROM:-0400
TZOFFSETTO:-0500
TZNAME:EST
DTSTART:20251102T060000
END:STANDARD
BEGIN:DAYLIGHT
TZOFFSETFROM:-0500
TZOFFSETTO:-0400
TZNAME:EDT
DTSTART:20260308T070000
END:DAYLIGHT
BEGIN:STANDARD
TZOFFSETFROM:-0400
TZOFFSETTO:-0500
TZNAME:EST
DTSTART:20261101T060000
END:STANDARD
END:VTIMEZONE
BEGIN:VEVENT
DTSTART;TZID=America/New_York:20250520T080000
DTEND;TZID=America/New_York:20250520T170000
DTSTAMP:20260421T180921
CREATED:20250227T193418Z
LAST-MODIFIED:20250227T193418Z
UID:6325-1747728000-1747760400@metroesports.gg
SUMMARY:Day Off School Camp - Building Games in Fortnite
DESCRIPTION:Spend the day building games and shaping your world with Fortnite! Learn real tech skills and ignite your creativity in this hands‑on camp.
URL:https://metroesports.gg/event/day-off-school-camp-building-games-in-fortnite/
LOCATION:Doylestown\, 2500 Lower State Rd\, Doylestown\, PA\, 18901\, United States
CATEGORIES:Camp
END:VEVENT
BEGIN:VEVENT
DTSTART;TZID=America/New_York:20250418T080000
DTEND;TZID=America/New_York:20250418T170000
DTSTAMP:20260421T180921
CREATED:20250227T193502Z
LAST-MODIFIED:20250227T193502Z
UID:6340-1744963200-1744995600@metroesports.gg
SUMMARY:Day-Off Camp - Roblox & Code (Session 2)
DESCRIPTION:Continue learning to code through Roblox in this second session. Enhance your skills in game development with interactive projects.
URL:https://metroesports.gg/event/day-off-camp-roblox-code-session-2/
CATEGORIES:Camp
END:VEVENT
BEGIN:VEVENT
DTSTART;TZID=America/New_York:20250417T080000
DTEND;TZID=America/New_York:20250417T170000
DTSTAMP:20260421T180921
CREATED:20250227T193502Z
LAST-MODIFIED:20250227T193502Z
UID:6339-1744876800-1744909200@metroesports.gg
SUMMARY:Day-Off Camp - Roblox & Code (Session 1)
DESCRIPTION:Learn to code through Roblox in this immersive day camp. Explore game development fundamentals and complete STEM projects.
URL:https://metroesports.gg/event/day-off-camp-roblox-code-session-1/
CATEGORIES:Camp
END:VEVENT
BEGIN:VEVENT
DTSTART;TZID=America/New_York:20250417T080000
DTEND;TZID=America/New_York:20250417T170000
DTSTAMP:20260421T180921
CREATED:20250227T193417Z
LAST-MODIFIED:20250227T193417Z
UID:6324-1744876800-1744909200@metroesports.gg
SUMMARY:Day Off School Camp - Esports & Sports
DESCRIPTION:Esports & Sports Crossover blends virtual and physical play\, offering a day of skill‑building\, teamwork and fun. Experience both esports and traditional sports in one innovative camp.
URL:https://metroesports.gg/event/day-off-school-camp-esports-sports/
LOCATION:Doylestown\, 2500 Lower State Rd\, Doylestown\, PA\, 18901\, United States
CATEGORIES:Camp
END:VEVENT
BEGIN:VEVENT
DTSTART;TZID=America/New_York:20250331T080000
DTEND;TZID=America/New_York:20250331T170000
DTSTAMP:20260421T180921
CREATED:20250227T193448Z
LAST-MODIFIED:20250227T193448Z
UID:6337-1743408000-1743440400@metroesports.gg
SUMMARY:Day-Off Camp - Esports & Sports Crossover (YMCA)
DESCRIPTION:Experience a full day of esports and sports challenges at YMCA Oscar Lasko. Ideal for ages 7‑12 to build skills and teamwork.
URL:https://metroesports.gg/event/day-off-camp-esports-sports-crossover-ymca/
CATEGORIES:Camp
END:VEVENT
BEGIN:VEVENT
DTSTART;TZID=America/New_York:20250331T080000
DTEND;TZID=America/New_York:20250331T170000
DTSTAMP:20260421T180921
CREATED:20250227T193433Z
LAST-MODIFIED:20250227T193433Z
UID:6330-1743408000-1743440400@metroesports.gg
SUMMARY:Day-Off Camp - Minecraft and Code
DESCRIPTION:Learn to code through Minecraft! In this one‑day camp\, students explore game development skills and JavaScript fundamentals while creating exciting worlds.
URL:https://metroesports.gg/event/day-off-camp-minecraft-and-code/
CATEGORIES:Camp
END:VEVENT
END:VCALENDAR